BEGIN:VCALENDAR
VERSION:2.0
PRODID:-//AudioTheme 1.8.0
BEGIN:VEVENT
UID:https://hankshizzoe.com/?post_type=audiotheme_gig&#038;p=1783
URL:https://hankshizzoe.com/shows/2019-11-23/
DTSTART;TZID=GMT:20191123T190000
SUMMARY:Wilder Westen im Salon mit Alex Capus
DESCRIPTION:Alex Capus liest aus "Skidoo"\, Hank Shizzoe singt Cowboy-Songs  18:30 Türöffnung\, 19:00 Essen\, 20:00 Showtime\, 22:00 Ende  Feines Chili (auch fleischlos) und Barbetrieb. Beschränkte Platzzahl.
LOCATION:Villa Mettlen\, Pourtalèsstrasse 35\, Muri b. Bern\, \, Switzerland\, 3074
END:VEVENT
END:VCALENDAR