BEGIN:VCALENDAR
VERSION:2.0
PRODID:-//AudioTheme 1.8.0
BEGIN:VEVENT
UID:https://hankshizzoe.com/?post_type=audiotheme_gig&#038;p=1795
URL:https://hankshizzoe.com/shows/2020-02-08/
DTSTART;TZID=GMT:20200208T190000
SUMMARY:The Hank Shizzoe Quartet
DESCRIPTION:Hank Shizzoe - voc\, gtr\, bouzouki\; Tom Etter - gtr\, voc\; Michael Flury - trombone\, perc\; Simon Baumann - drums. GOIN' STEADY AS WE GO.
LOCATION:Mauz\, Zürichstrasse 38\, Einsiedeln\, \, CH\, 8840
END:VEVENT
END:VCALENDAR