BEGIN:VCALENDAR
VERSION:2.0
PRODID:-//AudioTheme 1.8.0
BEGIN:VEVENT
UID:https://hankshizzoe.com/?post_type=audiotheme_gig&#038;p=1802
URL:https://hankshizzoe.com/shows/30-jahre-blues-zeppelin-canada-night/
DTSTART;TZID=GMT:20191102T190000
SUMMARY:30 Jahre Blues-Zeppelin: Canada Night
DESCRIPTION:Hank als Special Guest der Canada Night (...) für 3 Songs im ersten Set mit Morgan Davis. Dann ab die Post mit Monkey Junk.
LOCATION:Kulturhof Schloss Köniz\, Muhlernstrasse 11\, Köniz\, BE\, CH\, 3098
END:VEVENT
END:VCALENDAR