BEGIN:VCALENDAR
VERSION:2.0
PRODID:-//AudioTheme 1.8.0
BEGIN:VEVENT
UID:https://hankshizzoe.com/?post_type=audiotheme_gig&#038;p=1645
URL:https://hankshizzoe.com/shows/acoustig-nights-solothurn-solo/
DTSTART;TZID=GMT:20190321T193000
SUMMARY:Acoustig Nights Solothurn Solo
DESCRIPTION:solo acoustic double bill with Tom Krailing - Doppelkonzert solo akustisch mit Tom Krailing
LOCATION:Altes Spital\, Oberer Winkel 2\, Solothurn\, SO\, Switzerland\, 4500
END:VEVENT
END:VCALENDAR