BEGIN:VCALENDAR
VERSION:2.0
PRODID:-//AudioTheme 1.8.0
BEGIN:VEVENT
UID:https://hankshizzoe.com/?post_type=audiotheme_gig&#038;p=1779
URL:https://hankshizzoe.com/shows/hank-shizzoe-quartet-7/
DTSTART;TZID=GMT:20190823T181500
SUMMARY:Hank Shizzoe Quartet
DESCRIPTION:The Hank Shizzoe Quartet: Hank Shizzoe - voc\, gtr\; Tom Etter - gtr\, voc\; Michael Flury - trb\, perc\; Simon Baumann - drums
LOCATION:Röntgenplatzfest\, Röntgenplatz\, Zürich\, ZH\, CH\, 8005
END:VEVENT
END:VCALENDAR