BEGIN:VCALENDAR
VERSION:2.0
PRODID:-//AudioTheme 1.8.0
BEGIN:VEVENT
UID:https://hankshizzoe.com/?post_type=audiotheme_gig&#038;p=1780
URL:https://hankshizzoe.com/shows/hank-shizzoe-quartet-8/
DTSTART;TZID=GMT:20191026T180000
SUMMARY:Hank Shizzoe Quartet
DESCRIPTION:Hank Shizzoe - voc\, gtr\; Tom Etter - gtr\, voc\; Michael Flury - trb\, perc\; Simon Baumann - drums.  Doppelkonzert mit Martina Linn & Band
LOCATION:Casino Theater\, Kirchbühl 14\, Burgdorf\, BE\, CH\, 3400
END:VEVENT
END:VCALENDAR