BEGIN:VCALENDAR
VERSION:2.0
PRODID:-//AudioTheme 1.8.0
BEGIN:VEVENT
UID:https://hankshizzoe.com/?post_type=audiotheme_gig&#038;p=1716
URL:https://hankshizzoe.com/shows/hank-shizzoe-solo-3/
DTSTART;TZID=GMT:20190406T180000
SUMMARY:Hank Shizzoe Solo
DESCRIPTION:Solo performance supporting Joseph Parsons and his band.
LOCATION:Rätschenmühle\, Schlachthausstrasse 22\, Geislingen Steige\, \, Germany\, 73312
END:VEVENT
END:VCALENDAR