BEGIN:VCALENDAR
VERSION:2.0
PRODID:-//AudioTheme 1.8.0
BEGIN:VEVENT
UID:https://hankshizzoe.com/?post_type=audiotheme_gig&#038;p=1718
URL:https://hankshizzoe.com/shows/hank-shizzoe-solo-5/
DTSTART;TZID=GMT:20190511T183000
SUMMARY:Hank Shizzoe Solo
DESCRIPTION:Hank solo - electric\, acoustic\, original
LOCATION:Laboratorium\, Wagenburgstrasse 147\, Stuttgart\, \, Germany\, 70186
END:VEVENT
END:VCALENDAR