BEGIN:VCALENDAR
VERSION:2.0
PRODID:-//AudioTheme 1.8.0
BEGIN:VEVENT
UID:https://hankshizzoe.com/?post_type=audiotheme_gig&#038;p=1727
URL:https://hankshizzoe.com/shows/hank-shizzoe-solo-6/
DTSTART;TZID=GMT:20190427T180000
SUMMARY:Hank Shizzoe Solo
DESCRIPTION:Hank solo - acoustic\, electric\, original
LOCATION:Blasihof\, Mättlestrasse 2\, Todtnau\, \, Germany\, 79674
END:VEVENT
END:VCALENDAR