BEGIN:VCALENDAR
VERSION:2.0
PRODID:-//AudioTheme 1.8.0
BEGIN:VEVENT
UID:https://hankshizzoe.com/?post_type=audiotheme_gig&#038;p=1765
URL:https://hankshizzoe.com/shows/hank-shizzoe-solo-8/
DTSTART;TZID=GMT:20190625T180000
SUMMARY:Hank Shizzoe Solo
DESCRIPTION:Doppelkonzert mit Roli Frei & Peter Wagner
LOCATION:Neue Welt\, Griesbadgasse 7\, Ingolstadt\, \, Deutschland\, D-85049
END:VEVENT
END:VCALENDAR