BEGIN:VCALENDAR
VERSION:2.0
PRODID:-//AudioTheme 1.8.0
BEGIN:VEVENT
UID:https://hankshizzoe.com/?post_type=audiotheme_gig&#038;p=1775
URL:https://hankshizzoe.com/shows/hank-shizzoe-solo-9/
DTSTART;TZID=GMT:20190615T180000
SUMMARY:Hank Shizzoe Solo
DESCRIPTION:Hank Solo - Steady As He Goes
LOCATION:Esse Musicbar\, Rudolfstrasse 24\, Winterthur\, ZH\, Schweiz\, CH-8400
END:VEVENT
END:VCALENDAR