BEGIN:VCALENDAR
VERSION:2.0
PRODID:-//AudioTheme 1.8.0
BEGIN:VEVENT
UID:https://hankshizzoe.com/?post_type=audiotheme_gig&#038;p=1898
URL:https://hankshizzoe.com/shows/hank-shizzoe-trio-2/
DTSTART;TZID=GMT:20210717T180000
SUMMARY:Hank Shizzoe Trio
DESCRIPTION:Trio Special w/ Tom Etter on guitar and vocal and Michael Flury on trombone and percussion. Big wide church\, lots of reverb\, exploring the depths of sound and the wonderful world of resonance. One set.
LOCATION:33. Jazztage Lenk\, Reformierte Kirche  Rawilstrasse\, Lenk\, BE\, CH\, 3775
END:VEVENT
END:VCALENDAR