BEGIN:VCALENDAR
VERSION:2.0
PRODID:-//AudioTheme 1.8.0
BEGIN:VEVENT
UID:https://hankshizzoe.com/?post_type=audiotheme_gig&#038;p=1812
URL:https://hankshizzoe.com/shows/heiniger-abend-1/
DTSTART;TZID=GMT:20191226T190000
SUMMARY:Heiniger Abend +1
DESCRIPTION:Ein Tag nach Weihnachten\, Samichlaus Heiniger irrt weiter durchs Land. Diesmal mit zwei Schmutzlis: Michael Flury an Posaune und Rasseln\, Hank an Gitarren und Banjo. Nicht verpassen.
LOCATION:La Cappella\, Allmendstrasse 24\, Bern\, BE\, BE\, 3014
END:VEVENT
END:VCALENDAR