BEGIN:VCALENDAR
VERSION:2.0
PRODID:-//AudioTheme 1.8.0
BEGIN:VEVENT
UID:https://hankshizzoe.com/?post_type=audiotheme_gig&#038;p=1807
URL:https://hankshizzoe.com/shows/heiniger-abend-10/
DTSTART;TZID=GMT:20191214T191500
SUMMARY:Heiniger Abend
DESCRIPTION:Es ist Advent\, Samichlaus Heiniger zieht durchs Land. Diesmal mit zwei Schmutzlis: Michael Flury an Posaune und Rasseln\, Hank an Gitarren und Banjo. Nicht verpassen.
LOCATION:Kleine Bühne Zofingen\, General-Guisan-Strasse 14\, Zofingen\, AG\, CH\, 4800
END:VEVENT
END:VCALENDAR