BEGIN:VCALENDAR
VERSION:2.0
PRODID:-//AudioTheme 1.8.0
BEGIN:VEVENT
UID:https://hankshizzoe.com/?post_type=audiotheme_gig&#038;p=1803
URL:https://hankshizzoe.com/shows/heiniger-abend-8/
DTSTART;TZID=GMT:20191208T180000
SUMMARY:Heiniger Abend
DESCRIPTION:Es ist Advent\, Samichlaus Heiniger zieht durchs Land. Diesmal mit zwei Schmutzlis: Michael Flury an Posaune und Rasseln\, Hank an Gitarren und Banjo. Premiere im Mokka! Nicht verpassen.
LOCATION:Mokka\, Allmendstrasse 14\, Thun\, BE\, Switzerland\, 3006
END:VEVENT
END:VCALENDAR