BEGIN:VCALENDAR
VERSION:2.0
PRODID:-//AudioTheme 1.8.0
BEGIN:VEVENT
UID:https://hankshizzoe.com/?post_type=audiotheme_gig&#038;p=1805
URL:https://hankshizzoe.com/shows/heiniger-abend-9/
DTSTART;TZID=GMT:20191213T193000
SUMMARY:Heiniger Abend
DESCRIPTION:Es ist Advent\, Samichlaus Heiniger zieht durchs Land. Diesmal mit zwei Schmutzlis: Michael Flury an Posaune und Rasseln\, Hank an Gitarren und Banjo. Nicht verpassen.
LOCATION:Schloss Ueberstorf\, Schlossstrasse 14\, Ueberstorf\, FR\, CH\, 3182
END:VEVENT
END:VCALENDAR