BEGIN:VCALENDAR
VERSION:2.0
PRODID:-//AudioTheme 1.8.0
BEGIN:VEVENT
UID:https://hankshizzoe.com/?post_type=audiotheme_gig&#038;p=1817
URL:https://hankshizzoe.com/shows/heiniger-abend-nachbescherung/
DTSTART;TZID=GMT:20191228T190000
SUMMARY:Heiniger Abend (Nachbescherung)
DESCRIPTION:Der Advent ist Geschichte\, Samichlaus Heiniger zieht unbeirrt weiter durchs Land. Diesmal mit zwei Schmutzlis: Michael Flury an Posaune und Rasseln\, Hank an Gitarren und Banjo. Derniere im Rüttihubelbad. Nicht verpassen.
LOCATION:Rüttihubelbad\, Rüttihubel 29\, Walkringen\, BE\, CH\, 3512
END:VEVENT
END:VCALENDAR