BEGIN:VCALENDAR
VERSION:2.0
PRODID:-//AudioTheme 1.8.0
BEGIN:VEVENT
UID:https://hankshizzoe.com/?post_type=audiotheme_gig&#038;p=1811
URL:https://hankshizzoe.com/shows/heinigster-abend/
DTSTART;TZID=GMT:20191225T190000
SUMMARY:Heinigster Abend
DESCRIPTION:Es weihnachtet sehr: Samichlaus Heiniger zieht durchs Land. Diesmal mit zwei Schmutzlis: Michael Flury an Posaune und Rasseln\, Hank an Gitarren und Banjo. Da habt ihr die Bescherung. Nicht verpassen.
LOCATION:La Cappella\, Allmendstrasse 24\, Bern\, BE\, BE\, 3014
END:VEVENT
END:VCALENDAR