BEGIN:VCALENDAR
VERSION:2.0
PRODID:-//AudioTheme 1.8.0
BEGIN:VEVENT
UID:https://hankshizzoe.com/?post_type=audiotheme_gig&#038;p=1785
URL:https://hankshizzoe.com/shows/kobi-dr-killer-mit-matto-kampf/
DTSTART;TZID=GMT:20191124T180000
SUMMARY:"Köbi dr Killer" mit Matto Kämpf
DESCRIPTION:Welt-Uraufführung! "Köbi dr Killer"\, Geschichte von Matto Kämpf mit Musik von Hank Shizzoe.  17:30 Türöffnung\, 18:00 Essen\, 19:00 Showtime\, 21:00 Ende  Feines Chili (auch fleischlos) und Barbetrieb. Beschränkte Platzzahl.
LOCATION:Villa Mettlen\, Pourtalèsstrasse 35\, Muri b. Bern\, \, Switzerland\, 3074
END:VEVENT
END:VCALENDAR