BEGIN:VCALENDAR
VERSION:2.0
PRODID:-//AudioTheme 1.8.0
BEGIN:VEVENT
UID:https://hankshizzoe.com/?post_type=audiotheme_gig&#038;p=1622
URL:https://hankshizzoe.com/shows/kriminalgschicht-7/
DTSTART;TZID=GMT:20190210T160000
SUMMARY:KRIMINALGSCHICHT
DESCRIPTION:Der Dauerbrenner mit Markus Maria Enggist\, Christine Lauterburg\, Michel Poffet und Hank Shizzoe.
LOCATION:Theater Matte\, Mattenenge 1\, Bern\, \, CH\, 3011
END:VEVENT
END:VCALENDAR