BEGIN:VCALENDAR
VERSION:2.0
PRODID:-//AudioTheme 1.8.0
BEGIN:VEVENT
UID:https://hankshizzoe.com/?post_type=audiotheme_gig&#038;p=1793
URL:https://hankshizzoe.com/shows/mit-moes-anthill-im-tis/
DTSTART;TZID=GMT:20191024T190000
SUMMARY:mit MOES ANTHILL im 'Tis
DESCRIPTION:Hank solo und dann MOES ANTHILL mit ihrem famosen Quitter-Programm.
LOCATION:Atlantis\, Klosterberg 13\, Basel\, BS\, CH\, 4051
END:VEVENT
END:VCALENDAR