BEGIN:VCALENDAR
VERSION:2.0
PRODID:-//AudioTheme 1.8.0
BEGIN:VEVENT
UID:https://hankshizzoe.com/?post_type=audiotheme_gig&#038;p=1736
URL:https://hankshizzoe.com/shows/moes-anthill-quitter/
DTSTART;TZID=GMT:20190329T190000
SUMMARY:Moes Anthill: "Quitter"
DESCRIPTION:Moes Anthill: Release "Quitter" mit kurzem Solo-Set von Hank vorab.
LOCATION:Theater Uri\, Schützengasse 11\, Altdorf\, UR\, Switzerland\, 6460
END:VEVENT
END:VCALENDAR