BEGIN:VCALENDAR
VERSION:2.0
PRODID:-//AudioTheme 1.8.0
BEGIN:VEVENT
UID:https://hankshizzoe.com/?post_type=audiotheme_gig&#038;p=1720
URL:https://hankshizzoe.com/shows/the-hank-shizzoe-quartet-2/
DTSTART;TZID=GMT:20190519T170000
SUMMARY:The Hank Shizzoe Quartet
DESCRIPTION:Hank Shizzoe - vocals\, guitars  Tom Etter - guitars\, vocals  Michael Flury - trombone\, percussion  Simon Baumann - drums
LOCATION:Mokka\, Allmendstrasse 14\, Thun\, BE\, Switzerland\, 3006
END:VEVENT
END:VCALENDAR