BEGIN:VCALENDAR
VERSION:2.0
PRODID:-//AudioTheme 1.8.0
BEGIN:VEVENT
UID:https://hankshizzoe.com/?post_type=audiotheme_gig&#038;p=1721
URL:https://hankshizzoe.com/shows/the-hank-shizzoe-quartet-3/
DTSTART;TZID=GMT:20190520T180000
SUMMARY:The Hank Shizzoe Quartet
DESCRIPTION:Hank Shizzoe - vocals\, guitars  Tom Etter - guitars\, vocals  Michael Flury - trombone\, percussion  Simon Baumann - drums
LOCATION:El Lokal\, Gessner-Allee 11\, Zürich\, ZH\, Switzerland\, 8001
END:VEVENT
END:VCALENDAR