BEGIN:VCALENDAR
VERSION:2.0
PRODID:-//AudioTheme 1.8.0
BEGIN:VEVENT
UID:https://hankshizzoe.com/?post_type=audiotheme_gig&#038;p=1722
URL:https://hankshizzoe.com/shows/the-hank-shizzoe-quartet-4/
DTSTART;TZID=GMT:20190523T180000
SUMMARY:The Hank Shizzoe Quartet
DESCRIPTION:Hank Shizzoe - vocals\, guitars  Tom Etter - guitars\, vocals  Michael Flury - trombone\, percussion  Simon Baumann - drums
LOCATION:La Cappella\, Allmendstrasse 24\, Bern\, BE\, BE\, 3014
END:VEVENT
END:VCALENDAR