BEGIN:VCALENDAR
VERSION:2.0
PRODID:-//AudioTheme 1.8.0
BEGIN:VEVENT
UID:https://hankshizzoe.com/?post_type=audiotheme_gig&#038;p=1725
URL:https://hankshizzoe.com/shows/the-hank-shizzoe-quartet-5/
DTSTART;TZID=GMT:20190529T180000
SUMMARY:The Hank Shizzoe Quartet
DESCRIPTION:Hank Shizzoe - vocals\, guitars  Tom Etter - guitars\, vocals  Michael Flury - trombone\, percussion  Simon Baumann - drums
LOCATION:Galicia Bar\, Unterführungsstrasse 20\, Olten\, SO\, Switzerland\, 4600
END:VEVENT
END:VCALENDAR