BEGIN:VCALENDAR
VERSION:2.0
PRODID:-//AudioTheme 1.8.0
BEGIN:VEVENT
UID:https://hankshizzoe.com/?post_type=audiotheme_gig&#038;p=1796
URL:https://hankshizzoe.com/shows/the-hank-shizzoe-quartet-7/
DTSTART;TZID=GMT:20200228T200000
SUMMARY:The Hank Shizzoe Quartet
DESCRIPTION:Hank Shizzoe - voc\, gtr\, bouzouki\; Tom Etter - gtr\, voc\; Michael Flury - trombone\, perc\; Simon Baumann - drums. GOIN' STEADY AS WE GO.
LOCATION:Kammgarn\, Baumgartenstrasse 19\, Schaffhausen\, SH\, CH\, 8200
END:VEVENT
END:VCALENDAR