BEGIN:VCALENDAR
VERSION:2.0
PRODID:-//AudioTheme 1.8.0
BEGIN:VEVENT
UID:https://hankshizzoe.com/?post_type=audiotheme_gig&#038;p=1800
URL:https://hankshizzoe.com/shows/the-hank-shizzoe-quartet-9/
DTSTART;TZID=GMT:20200306T190000
SUMMARY:The Hank Shizzoe Quartet
DESCRIPTION:Hank Shizzoe - voc\, gtr\, bouzouki\; Tom Etter - gtr\, voc\; Michael Flury - trombone\, perc\; Simon Baumann - drums. GOIN' STEADY AS WE GO.
LOCATION:Kulturhof Schloss Köniz\, Muhlernstrasse 11\, Köniz\, BE\, CH\, 3098
END:VEVENT
END:VCALENDAR