BEGIN:VCALENDAR
VERSION:2.0
PRODID:-//AudioTheme 1.8.0
BEGIN:VEVENT
UID:https://hankshizzoe.com/?post_type=audiotheme_gig&#038;p=1715
URL:https://hankshizzoe.com/shows/tinu-heiniger-hank-shizzoe-4/
DTSTART;TZID=GMT:20190405T183000
SUMMARY:Tinu Heiniger & Hank Shizzoe
DESCRIPTION:Tinu Heiniger -  Gesang\, Gitarre. Klarinette  Hank Shizzoe - Gitarre\, Banjo\, Gesang
LOCATION:Bären\, Bernstrasse 3\, Münchenbuchsee\, BE\, Switzerland\, 3053
END:VEVENT
END:VCALENDAR