BEGIN:VCALENDAR
VERSION:2.0
PRODID:-//AudioTheme 1.8.0
BEGIN:VEVENT
UID:https://hankshizzoe.com/?post_type=audiotheme_gig&#038;p=1728
URL:https://hankshizzoe.com/shows/tinu-heiniger-hank-shizzoe-5/
DTSTART;TZID=GMT:20190216T190000
SUMMARY:Tinu Heiniger & Hank Shizzoe
DESCRIPTION:Tinu Heiniger - Gesang\, Gitarre\, Klarinette  Hank Shizzoe - Gitarre\, Banjo\, Gesang
LOCATION:Heitere Fahne\, Dorfstrasse 22/24\, Wabern\, BE\, Switzerland\, 3084
END:VEVENT
END:VCALENDAR