BEGIN:VCALENDAR
VERSION:2.0
PRODID:-//AudioTheme 1.8.0
BEGIN:VEVENT
UID:https://hankshizzoe.com/?post_type=audiotheme_gig&#038;p=1730
URL:https://hankshizzoe.com/shows/tinu-heiniger-hank-shizzoe-6/
DTSTART;TZID=GMT:20190223T191500
SUMMARY:Tinu Heiniger & Hank Shizzoe
DESCRIPTION:Tinu Heiniger - Gesang\, Gitarre\, Klarinette  Hank Shizzoe - Gitarre\, Banjo\, Gesang
LOCATION:Härdöpfuchäuer\, Dorfstrasse 16\, Schöftland\, AG\, Switzerland\, 5040
END:VEVENT
END:VCALENDAR