BEGIN:VCALENDAR
VERSION:2.0
PRODID:-//AudioTheme 1.8.0
BEGIN:VEVENT
UID:https://hankshizzoe.com/?post_type=audiotheme_gig&#038;p=1734
URL:https://hankshizzoe.com/shows/tinusaurier/
DTSTART;TZID=GMT:20190322T190000
SUMMARY:Tinusaurier
DESCRIPTION:Museumsnacht: ab 20:00 jeweils zur vollen Stunde 4 Sets mit Tinu Heiniger & Hank Shizzoe
LOCATION:Naturhistorisches Museum\, Bernastrasse 15\, Bern\, BE\, Switzerland\, 3005
END:VEVENT
END:VCALENDAR